Package: gep2pep Version: 1.27.0 Command: /Library/Frameworks/R.framework/Resources/bin/R CMD INSTALL gep2pep StartedAt: 2025-02-04 15:28:50 -0500 (Tue, 04 Feb 2025) EndedAt: 2025-02-04 15:29:13 -0500 (Tue, 04 Feb 2025) EllapsedTime: 22.9 seconds RetCode: 0 Status: OK