Package: gep2pep Version: 1.27.0 Command: /home/biocbuild/bbs-3.21-bioc/R/bin/R CMD build --keep-empty-dirs --no-resave-data gep2pep StartedAt: 2025-02-04 17:22:36 -0500 (Tue, 04 Feb 2025) EndedAt: 2025-02-04 17:23:00 -0500 (Tue, 04 Feb 2025) EllapsedTime: 24.0 seconds RetCode: 0 Status: OK PackageFile: gep2pep_1.27.0.tar.gz PackageFileSize: 121.6 KiB