Package: gep2pep Version: 1.27.0 Command: /home/biocbuild/bbs-3.21-bioc/R/bin/R CMD INSTALL gep2pep StartedAt: 2025-02-04 15:43:37 -0500 (Tue, 04 Feb 2025) EndedAt: 2025-02-04 15:43:53 -0500 (Tue, 04 Feb 2025) EllapsedTime: 16.7 seconds RetCode: 0 Status: OK