Package: gep2pep Version: 1.27.0 Command: chmod a+r gep2pep -R && E:\biocbuild\bbs-3.21-bioc\R\bin\R.exe CMD build --keep-empty-dirs --no-resave-data gep2pep StartedAt: 2025-02-09 18:57:16 -0500 (Sun, 09 Feb 2025) EndedAt: 2025-02-09 18:57:56 -0500 (Sun, 09 Feb 2025) EllapsedTime: 39.8 seconds RetCode: 0 Status: OK PackageFile: gep2pep_1.27.0.tar.gz PackageFileSize: 121.9 KiB