Package: gep2pep Version: 1.27.0 Command: E:\biocbuild\bbs-3.21-bioc\R\bin\R.exe CMD check --no-multiarch --install=check:gep2pep.install-out.txt --library=E:\biocbuild\bbs-3.21-bioc\R\library --no-vignettes --timings gep2pep_1.27.0.tar.gz StartedAt: 2025-02-10 01:31:42 -0500 (Mon, 10 Feb 2025) EndedAt: 2025-02-10 01:35:01 -0500 (Mon, 10 Feb 2025) EllapsedTime: 199.5 seconds RetCode: 0 Status: OK CheckDir: gep2pep.Rcheck Warnings: 0