Package: geyser Version: 0.99.8 Command: /Library/Frameworks/R.framework/Resources/bin/R CMD build --keep-empty-dirs --no-resave-data geyser StartedAt: 2025-02-09 16:27:18 -0500 (Sun, 09 Feb 2025) EndedAt: 2025-02-09 16:27:35 -0500 (Sun, 09 Feb 2025) EllapsedTime: 16.2 seconds RetCode: 0 Status: OK PackageFile: geyser_0.99.8.tar.gz PackageFileSize: 2.279 MiB