Package: geyser Version: 0.99.8 Command: /Library/Frameworks/R.framework/Resources/bin/R CMD INSTALL geyser StartedAt: 2025-02-12 15:15:47 -0500 (Wed, 12 Feb 2025) EndedAt: 2025-02-12 15:15:58 -0500 (Wed, 12 Feb 2025) EllapsedTime: 10.2 seconds RetCode: 0 Status: OK