Package: geyser Version: 0.99.8 Command: /Library/Frameworks/R.framework/Resources/bin/R CMD INSTALL geyser StartedAt: 2025-02-12 15:26:11 -0500 (Wed, 12 Feb 2025) EndedAt: 2025-02-12 15:26:45 -0500 (Wed, 12 Feb 2025) EllapsedTime: 33.4 seconds RetCode: 0 Status: OK