Package: geyser Version: 0.99.8 Command: /home/biocbuild/bbs-3.21-bioc/R/bin/R CMD build --keep-empty-dirs --no-resave-data geyser StartedAt: 2025-02-12 17:21:39 -0500 (Wed, 12 Feb 2025) EndedAt: 2025-02-12 17:22:18 -0500 (Wed, 12 Feb 2025) EllapsedTime: 39.0 seconds RetCode: 0 Status: OK PackageFile: geyser_0.99.8.tar.gz PackageFileSize: 2.279 MiB