Package: gg4way Version: 1.5.0 Command: rm -rf gg4way.buildbin-libdir && mkdir gg4way.buildbin-libdir && /Users/biocbuild/BBS/utils/build-universal.sh gg4way_1.5.0.tar.gz /Library/Frameworks/R.framework/Resources/bin/R gg4way.buildbin-libdir StartedAt: 2025-02-09 22:16:04 -0500 (Sun, 09 Feb 2025) EndedAt: 2025-02-09 22:16:16 -0500 (Sun, 09 Feb 2025) EllapsedTime: 12.2 seconds RetCode: 0 Status: OK PackageFile: gg4way_1.5.0.tgz PackageFileSize: 2.939 MiB