Package: gg4way Version: 1.5.0 Command: /Library/Frameworks/R.framework/Resources/bin/R CMD INSTALL gg4way StartedAt: 2025-02-09 15:08:21 -0500 (Sun, 09 Feb 2025) EndedAt: 2025-02-09 15:08:32 -0500 (Sun, 09 Feb 2025) EllapsedTime: 10.5 seconds RetCode: 0 Status: OK