Package: gg4way Version: 1.5.0 Command: /home/biocbuild/R/R/bin/R CMD INSTALL gg4way StartedAt: 2025-01-29 19:48:33 -0000 (Wed, 29 Jan 2025) EndedAt: 2025-01-29 19:49:10 -0000 (Wed, 29 Jan 2025) EllapsedTime: 36.5 seconds RetCode: 0 Status: OK