Package: gg4way Version: 1.5.0 Command: /home/biocbuild/bbs-3.21-bioc/R/bin/R CMD build --keep-empty-dirs --no-resave-data gg4way StartedAt: 2025-02-09 17:25:18 -0500 (Sun, 09 Feb 2025) EndedAt: 2025-02-09 17:26:41 -0500 (Sun, 09 Feb 2025) EllapsedTime: 83.1 seconds RetCode: 0 Status: OK PackageFile: gg4way_1.5.0.tar.gz PackageFileSize: 2.924 MiB