Package: gg4way Version: 1.5.0 Command: E:\biocbuild\bbs-3.21-bioc\R\bin\R.exe CMD check --no-multiarch --install=check:gg4way.install-out.txt --library=E:\biocbuild\bbs-3.21-bioc\R\library --no-vignettes --timings gg4way_1.5.0.tar.gz StartedAt: 2025-02-04 02:00:23 -0500 (Tue, 04 Feb 2025) EndedAt: 2025-02-04 02:04:11 -0500 (Tue, 04 Feb 2025) EllapsedTime: 228.1 seconds RetCode: 0 Status: OK CheckDir: gg4way.Rcheck Warnings: 0