Package: ggcyto Version: 1.35.0 Command: /Library/Frameworks/R.framework/Resources/bin/R CMD build --keep-empty-dirs --no-resave-data ggcyto StartedAt: 2025-02-04 16:27:46 -0500 (Tue, 04 Feb 2025) EndedAt: 2025-02-04 16:28:24 -0500 (Tue, 04 Feb 2025) EllapsedTime: 37.4 seconds RetCode: 0 Status: OK PackageFile: ggcyto_1.35.0.tar.gz PackageFileSize: 24.34 MiB