Package: ggcyto Version: 1.35.0 Command: /Library/Frameworks/R.framework/Resources/bin/R CMD check --install=check:ggcyto.install-out.txt --library=/Library/Frameworks/R.framework/Resources/library --no-vignettes --timings ggcyto_1.35.0.tar.gz StartedAt: 2025-02-03 20:04:06 -0500 (Mon, 03 Feb 2025) EndedAt: 2025-02-03 20:05:11 -0500 (Mon, 03 Feb 2025) EllapsedTime: 64.8 seconds RetCode: 0 Status: WARNINGS CheckDir: ggcyto.Rcheck Warnings: 2