Package: ggcyto Version: 1.35.0 Command: /Library/Frameworks/R.framework/Resources/bin/R CMD INSTALL ggcyto StartedAt: 2025-02-09 15:06:21 -0500 (Sun, 09 Feb 2025) EndedAt: 2025-02-09 15:06:28 -0500 (Sun, 09 Feb 2025) EllapsedTime: 6.6 seconds RetCode: 0 Status: OK