Package: ggcyto Version: 1.35.0 Command: /home/biocbuild/R/R/bin/R CMD INSTALL ggcyto StartedAt: 2025-01-29 19:46:12 -0000 (Wed, 29 Jan 2025) EndedAt: 2025-01-29 19:46:34 -0000 (Wed, 29 Jan 2025) EllapsedTime: 21.4 seconds RetCode: 0 Status: OK