Package: ggcyto Version: 1.35.0 Command: /Library/Frameworks/R.framework/Resources/bin/R CMD build --keep-empty-dirs --no-resave-data ggcyto StartedAt: 2025-02-09 16:54:24 -0500 (Sun, 09 Feb 2025) EndedAt: 2025-02-09 16:56:27 -0500 (Sun, 09 Feb 2025) EllapsedTime: 122.9 seconds RetCode: 0 Status: OK PackageFile: ggcyto_1.35.0.tar.gz PackageFileSize: 24.32 MiB