Package: ggcyto Version: 1.35.0 Command: /Library/Frameworks/R.framework/Resources/bin/R CMD check --install=check:ggcyto.install-out.txt --library=/Library/Frameworks/R.framework/Resources/library --no-vignettes --timings ggcyto_1.35.0.tar.gz StartedAt: 2025-02-09 21:01:05 -0500 (Sun, 09 Feb 2025) EndedAt: 2025-02-09 21:04:32 -0500 (Sun, 09 Feb 2025) EllapsedTime: 206.8 seconds RetCode: 0 Status: WARNINGS CheckDir: ggcyto.Rcheck Warnings: 2