Package: ggcyto Version: 1.35.0 Command: /Library/Frameworks/R.framework/Resources/bin/R CMD INSTALL ggcyto StartedAt: 2025-02-09 15:15:32 -0500 (Sun, 09 Feb 2025) EndedAt: 2025-02-09 15:15:53 -0500 (Sun, 09 Feb 2025) EllapsedTime: 21.5 seconds RetCode: 0 Status: OK