Package: ggcyto Version: 1.35.0 Command: /home/biocbuild/bbs-3.21-bioc/R/bin/R CMD check --install=check:ggcyto.install-out.txt --library=/home/biocbuild/bbs-3.21-bioc/R/site-library --timings ggcyto_1.35.0.tar.gz StartedAt: 2025-02-09 22:44:28 -0500 (Sun, 09 Feb 2025) EndedAt: 2025-02-09 22:48:35 -0500 (Sun, 09 Feb 2025) EllapsedTime: 246.5 seconds RetCode: 0 Status: WARNINGS CheckDir: ggcyto.Rcheck Warnings: 2