Package: ggcyto Version: 1.35.0 Command: /home/biocbuild/bbs-3.21-bioc/R/bin/R CMD INSTALL ggcyto StartedAt: 2025-02-09 15:32:48 -0500 (Sun, 09 Feb 2025) EndedAt: 2025-02-09 15:33:04 -0500 (Sun, 09 Feb 2025) EllapsedTime: 16.2 seconds RetCode: 0 Status: OK