Package: ggcyto Version: 1.35.0 Command: rm -rf ggcyto.buildbin-libdir && mkdir ggcyto.buildbin-libdir && E:\biocbuild\bbs-3.21-bioc\R\bin\R.exe CMD INSTALL --build --library=ggcyto.buildbin-libdir ggcyto_1.35.0.tar.gz StartedAt: 2025-02-05 08:02:35 -0500 (Wed, 05 Feb 2025) EndedAt: 2025-02-05 08:03:43 -0500 (Wed, 05 Feb 2025) EllapsedTime: 68.4 seconds RetCode: 0 Status: OK PackageFile: ggcyto_1.35.0.zip PackageFileSize: 2.509 MiB