Package: ggcyto Version: 1.35.0 Command: chmod a+r ggcyto -R && E:\biocbuild\bbs-3.21-bioc\R\bin\R.exe CMD build --keep-empty-dirs --no-resave-data ggcyto StartedAt: 2025-02-04 19:00:52 -0500 (Tue, 04 Feb 2025) EndedAt: 2025-02-04 19:04:27 -0500 (Tue, 04 Feb 2025) EllapsedTime: 215.1 seconds RetCode: 0 Status: OK PackageFile: ggcyto_1.35.0.tar.gz PackageFileSize: 18.9 MiB