Package: ggcyto Version: 1.35.0 Command: E:\biocbuild\bbs-3.21-bioc\R\bin\R.exe CMD check --no-multiarch --install=check:ggcyto.install-out.txt --library=E:\biocbuild\bbs-3.21-bioc\R\library --no-vignettes --timings ggcyto_1.35.0.tar.gz StartedAt: 2025-02-05 02:00:04 -0500 (Wed, 05 Feb 2025) EndedAt: 2025-02-05 02:03:35 -0500 (Wed, 05 Feb 2025) EllapsedTime: 210.7 seconds RetCode: 0 Status: WARNINGS CheckDir: ggcyto.Rcheck Warnings: 2