Package: ggmanh Version: 1.11.0 Command: rm -rf ggmanh.buildbin-libdir && mkdir ggmanh.buildbin-libdir && E:\biocbuild\bbs-3.21-bioc\R\bin\R.exe CMD INSTALL --build --library=ggmanh.buildbin-libdir ggmanh_1.11.0.tar.gz StartedAt: 2025-02-10 07:51:09 -0500 (Mon, 10 Feb 2025) EndedAt: 2025-02-10 07:51:35 -0500 (Mon, 10 Feb 2025) EllapsedTime: 26.5 seconds RetCode: 0 Status: OK PackageFile: ggmanh_1.11.0.zip PackageFileSize: 3.252 MiB