Package: ggmanh Version: 1.11.0 Command: chmod a+r ggmanh -R && E:\biocbuild\bbs-3.21-bioc\R\bin\R.exe CMD build --keep-empty-dirs --no-resave-data ggmanh StartedAt: 2025-02-12 19:03:18 -0500 (Wed, 12 Feb 2025) EndedAt: 2025-02-12 19:04:45 -0500 (Wed, 12 Feb 2025) EllapsedTime: 87.5 seconds RetCode: 0 Status: OK PackageFile: ggmanh_1.11.0.tar.gz PackageFileSize: 3.155 MiB