Package: ggmsa Version: 1.13.1 Command: rm -rf ggmsa.buildbin-libdir && mkdir ggmsa.buildbin-libdir && /Users/biocbuild/BBS/utils/build-universal.sh ggmsa_1.13.1.tar.gz /Library/Frameworks/R.framework/Resources/bin/R ggmsa.buildbin-libdir StartedAt: 2025-02-10 00:55:52 -0500 (Mon, 10 Feb 2025) EndedAt: 2025-02-10 00:56:18 -0500 (Mon, 10 Feb 2025) EllapsedTime: 25.5 seconds RetCode: 0 Status: OK PackageFile: ggmsa_1.13.1.tgz PackageFileSize: 2.82 MiB