Package: ggmsa Version: 1.13.1 Command: /Library/Frameworks/R.framework/Resources/bin/R CMD INSTALL ggmsa StartedAt: 2025-02-09 15:26:33 -0500 (Sun, 09 Feb 2025) EndedAt: 2025-02-09 15:26:55 -0500 (Sun, 09 Feb 2025) EllapsedTime: 21.7 seconds RetCode: 0 Status: OK