Package: ggsc Version: 1.5.0 Command: rm -rf ggsc.buildbin-libdir && mkdir ggsc.buildbin-libdir && /Users/biocbuild/BBS/utils/build-universal.sh ggsc_1.5.0.tar.gz /Library/Frameworks/R.framework/Resources/bin/R ggsc.buildbin-libdir StartedAt: 2025-02-09 22:16:10 -0500 (Sun, 09 Feb 2025) EndedAt: 2025-02-09 22:16:32 -0500 (Sun, 09 Feb 2025) EllapsedTime: 21.4 seconds RetCode: 0 Status: OK PackageFile: ggsc_1.5.0.tgz PackageFileSize: 348.3 KiB