Package: ggsc Version: 1.5.0 Command: /Library/Frameworks/R.framework/Resources/bin/R CMD build --keep-empty-dirs --no-resave-data ggsc StartedAt: 2025-02-09 16:27:56 -0500 (Sun, 09 Feb 2025) EndedAt: 2025-02-09 16:28:15 -0500 (Sun, 09 Feb 2025) EllapsedTime: 19.2 seconds RetCode: 0 Status: OK PackageFile: ggsc_1.5.0.tar.gz PackageFileSize: 81.22 KiB