Package: ggseqalign Version: 1.1.0 Command: /home/biocbuild/bbs-3.21-bioc/R/bin/R CMD INSTALL ggseqalign StartedAt: 2025-02-09 15:50:04 -0500 (Sun, 09 Feb 2025) EndedAt: 2025-02-09 15:50:16 -0500 (Sun, 09 Feb 2025) EllapsedTime: 11.2 seconds RetCode: 0 Status: OK