Package: ggseqalign Version: 1.1.0 Command: rm -rf ggseqalign.buildbin-libdir && mkdir ggseqalign.buildbin-libdir && E:\biocbuild\bbs-3.21-bioc\R\bin\R.exe CMD INSTALL --build --library=ggseqalign.buildbin-libdir ggseqalign_1.1.0.tar.gz StartedAt: 2025-02-10 07:51:16 -0500 (Mon, 10 Feb 2025) EndedAt: 2025-02-10 07:51:37 -0500 (Mon, 10 Feb 2025) EllapsedTime: 20.7 seconds RetCode: 0 Status: OK PackageFile: ggseqalign_1.1.0.zip PackageFileSize: 509.5 KiB