Package: ggseqalign Version: 1.1.0 Command: chmod a+r ggseqalign -R && E:\biocbuild\bbs-3.21-bioc\R\bin\R.exe CMD build --keep-empty-dirs --no-resave-data ggseqalign StartedAt: 2025-02-09 18:58:49 -0500 (Sun, 09 Feb 2025) EndedAt: 2025-02-09 18:59:31 -0500 (Sun, 09 Feb 2025) EllapsedTime: 41.7 seconds RetCode: 0 Status: OK PackageFile: ggseqalign_1.1.0.tar.gz PackageFileSize: 490.3 KiB