Package: ggseqalign Version: 1.1.0 Command: E:\biocbuild\bbs-3.21-bioc\R\bin\R.exe CMD INSTALL ggseqalign StartedAt: 2025-02-09 15:40:58 -0500 (Sun, 09 Feb 2025) EndedAt: 2025-02-09 15:41:14 -0500 (Sun, 09 Feb 2025) EllapsedTime: 16.9 seconds RetCode: 0 Status: OK