Package: ggspavis Version: 1.13.0 Command: /Library/Frameworks/R.framework/Resources/bin/R CMD INSTALL ggspavis StartedAt: 2025-02-09 15:08:53 -0500 (Sun, 09 Feb 2025) EndedAt: 2025-02-09 15:09:04 -0500 (Sun, 09 Feb 2025) EllapsedTime: 10.7 seconds RetCode: 0 Status: OK