Package: ggspavis Version: 1.13.0 Command: /home/biocbuild/bbs-3.21-bioc/R/bin/R CMD build --keep-empty-dirs --no-resave-data ggspavis StartedAt: 2025-02-12 17:22:56 -0500 (Wed, 12 Feb 2025) EndedAt: 2025-02-12 17:24:33 -0500 (Wed, 12 Feb 2025) EllapsedTime: 97.1 seconds RetCode: 0 Status: OK PackageFile: ggspavis_1.13.0.tar.gz PackageFileSize: 5.991 MiB