Package: ggspavis Version: 1.13.0 Command: E:\biocbuild\bbs-3.21-bioc\R\bin\R.exe CMD INSTALL ggspavis StartedAt: 2025-02-09 16:25:40 -0500 (Sun, 09 Feb 2025) EndedAt: 2025-02-09 16:26:15 -0500 (Sun, 09 Feb 2025) EllapsedTime: 35.3 seconds RetCode: 0 Status: OK