Package: ggtree Version: 3.15.0 Command: /Library/Frameworks/R.framework/Resources/bin/R CMD INSTALL ggtree StartedAt: 2025-02-12 15:08:59 -0500 (Wed, 12 Feb 2025) EndedAt: 2025-02-12 15:09:03 -0500 (Wed, 12 Feb 2025) EllapsedTime: 4.4 seconds RetCode: 0 Status: OK