Package: ggtree Version: 3.15.0 Command: /Library/Frameworks/R.framework/Resources/bin/R CMD build --keep-empty-dirs --no-resave-data ggtree StartedAt: 2025-02-09 16:55:30 -0500 (Sun, 09 Feb 2025) EndedAt: 2025-02-09 16:55:49 -0500 (Sun, 09 Feb 2025) EllapsedTime: 19.5 seconds RetCode: 0 Status: OK PackageFile: ggtree_3.15.0.tar.gz PackageFileSize: 353.2 KiB