Package: ggtree Version: 3.15.0 Command: /home/biocbuild/bbs-3.21-bioc/R/bin/R CMD build --keep-empty-dirs --no-resave-data ggtree StartedAt: 2025-02-09 17:26:12 -0500 (Sun, 09 Feb 2025) EndedAt: 2025-02-09 17:26:24 -0500 (Sun, 09 Feb 2025) EllapsedTime: 12.0 seconds RetCode: 0 Status: OK PackageFile: ggtree_3.15.0.tar.gz PackageFileSize: 353.2 KiB