Package: ggtree Version: 3.15.0 Command: E:\biocbuild\bbs-3.21-bioc\R\bin\R.exe CMD check --no-multiarch --install=check:ggtree.install-out.txt --library=E:\biocbuild\bbs-3.21-bioc\R\library --no-vignettes --timings ggtree_3.15.0.tar.gz StartedAt: 2025-02-10 01:35:58 -0500 (Mon, 10 Feb 2025) EndedAt: 2025-02-10 01:37:41 -0500 (Mon, 10 Feb 2025) EllapsedTime: 103.3 seconds RetCode: 0 Status: OK CheckDir: ggtree.Rcheck Warnings: 0