Package: ggtreeDendro Version: 1.9.0 Command: /home/biocbuild/R/R/bin/R CMD check --install=check:ggtreeDendro.install-out.txt --library=/home/biocbuild/R/R/site-library --no-vignettes --timings ggtreeDendro_1.9.0.tar.gz StartedAt: 2025-01-28 11:07:29 -0000 (Tue, 28 Jan 2025) EndedAt: 2025-01-28 11:08:19 -0000 (Tue, 28 Jan 2025) EllapsedTime: 50.1 seconds RetCode: 0 Status: WARNINGS CheckDir: ggtreeDendro.Rcheck Warnings: 1