Package: ggtreeDendro Version: 1.9.0 Command: /Library/Frameworks/R.framework/Resources/bin/R CMD check --install=check:ggtreeDendro.install-out.txt --library=/Library/Frameworks/R.framework/Resources/library --no-vignettes --timings ggtreeDendro_1.9.0.tar.gz StartedAt: 2025-02-04 20:48:50 -0500 (Tue, 04 Feb 2025) EndedAt: 2025-02-04 20:49:43 -0500 (Tue, 04 Feb 2025) EllapsedTime: 52.8 seconds RetCode: 0 Status: WARNINGS CheckDir: ggtreeDendro.Rcheck Warnings: 1