Package: ggtreeDendro Version: 1.9.0 Command: /home/biocbuild/bbs-3.21-bioc/R/bin/R CMD INSTALL ggtreeDendro StartedAt: 2025-02-09 15:10:35 -0500 (Sun, 09 Feb 2025) EndedAt: 2025-02-09 15:10:42 -0500 (Sun, 09 Feb 2025) EllapsedTime: 6.6 seconds RetCode: 0 Status: OK