Package: ggtreeDendro Version: 1.9.0 Command: chmod a+r ggtreeDendro -R && E:\biocbuild\bbs-3.21-bioc\R\bin\R.exe CMD build --keep-empty-dirs --no-resave-data ggtreeDendro StartedAt: 2025-02-09 18:59:27 -0500 (Sun, 09 Feb 2025) EndedAt: 2025-02-09 18:59:49 -0500 (Sun, 09 Feb 2025) EllapsedTime: 22.1 seconds RetCode: 0 Status: OK PackageFile: ggtreeDendro_1.9.0.tar.gz PackageFileSize: 148.5 KiB