Package: ggtreeDendro Version: 1.9.0 Command: E:\biocbuild\bbs-3.21-bioc\R\bin\R.exe CMD INSTALL ggtreeDendro StartedAt: 2025-02-12 15:38:15 -0500 (Wed, 12 Feb 2025) EndedAt: 2025-02-12 15:38:30 -0500 (Wed, 12 Feb 2025) EllapsedTime: 15.5 seconds RetCode: 0 Status: OK