Package: ggtreeExtra Version: 1.17.0 Command: /home/biocbuild/R/R/bin/R CMD build --keep-empty-dirs --no-resave-data ggtreeExtra StartedAt: 2025-01-28 23:13:38 -0000 (Tue, 28 Jan 2025) EndedAt: 2025-01-28 23:14:06 -0000 (Tue, 28 Jan 2025) EllapsedTime: 28.0 seconds RetCode: 0 Status: OK PackageFile: ggtreeExtra_1.17.0.tar.gz PackageFileSize: 302.8 KiB