Package: ggtreeExtra Version: 1.17.0 Command: /Library/Frameworks/R.framework/Resources/bin/R CMD build --keep-empty-dirs --no-resave-data ggtreeExtra StartedAt: 2025-02-09 16:55:33 -0500 (Sun, 09 Feb 2025) EndedAt: 2025-02-09 16:55:56 -0500 (Sun, 09 Feb 2025) EllapsedTime: 22.9 seconds RetCode: 0 Status: OK PackageFile: ggtreeExtra_1.17.0.tar.gz PackageFileSize: 932.8 KiB